BEGIN:VCALENDAR
VERSION:2.0
PRODID:-//Naveen&#039;s Cuisine - ECPv6.14.1//NONSGML v1.0//EN
CALSCALE:GREGORIAN
METHOD:PUBLISH
X-ORIGINAL-URL:https://www.naveenscuisine.com
X-WR-CALDESC:Events for Naveen&#039;s Cuisine
REFRESH-INTERVAL;VALUE=DURATION:PT1H
X-Robots-Tag:noindex
X-PUBLISHED-TTL:PT1H
BEGIN:VTIMEZONE
TZID:America/Chicago
BEGIN:DAYLIGHT
TZOFFSETFROM:-0600
TZOFFSETTO:-0500
TZNAME:CDT
DTSTART:20260308T080000
END:DAYLIGHT
BEGIN:STANDARD
TZOFFSETFROM:-0500
TZOFFSETTO:-0600
TZNAME:CST
DTSTART:20261101T070000
END:STANDARD
END:VTIMEZONE
BEGIN:VEVENT
DTSTART;TZID=America/Chicago:20260217T183000
DTEND;TZID=America/Chicago:20260217T213000
DTSTAMP:20260423T033109
CREATED:20260207T223603Z
LAST-MODIFIED:20260207T223603Z
UID:10000350-1771353000-1771363800@www.naveenscuisine.com
SUMMARY:Korma Night
DESCRIPTION:Join our hands-on cooking class and master the art of two beloved Indian dishes: Chicken Korma and Bhindi Masala. \nLearn how to create rich\, creamy korma with tender chicken and perfectly balanced spices. \nDiscover the secrets to cooking okra without slime in our flavorful\, North Indian-style bhindi masala. \nWe’ll guide you step-by-step\, from prepping ingredients to the final aromatic garnish. \nPerfect for beginners and food enthusiasts alike—no prior experience needed!
URL:https://www.naveenscuisine.com/event/korma-night/
CATEGORIES:Cooking Class
END:VEVENT
END:VCALENDAR