BEGIN:VCALENDAR
VERSION:2.0
PRODID:-//Naveen&#039;s Cuisine - ECPv6.14.1//NONSGML v1.0//EN
CALSCALE:GREGORIAN
METHOD:PUBLISH
X-ORIGINAL-URL:https://www.naveenscuisine.com
X-WR-CALDESC:Events for Naveen&#039;s Cuisine
REFRESH-INTERVAL;VALUE=DURATION:PT1H
X-Robots-Tag:noindex
X-PUBLISHED-TTL:PT1H
BEGIN:VTIMEZONE
TZID:America/Chicago
BEGIN:DAYLIGHT
TZOFFSETFROM:-0600
TZOFFSETTO:-0500
TZNAME:CDT
DTSTART:20240310T080000
END:DAYLIGHT
BEGIN:STANDARD
TZOFFSETFROM:-0500
TZOFFSETTO:-0600
TZNAME:CST
DTSTART:20241103T070000
END:STANDARD
END:VTIMEZONE
BEGIN:VEVENT
DTSTART;TZID=America/Chicago:20241028T183000
DTEND;TZID=America/Chicago:20241028T213000
DTSTAMP:20260420T055530
CREATED:20241002T153542Z
LAST-MODIFIED:20241002T153542Z
UID:10000063-1730140200-1730151000@www.naveenscuisine.com
SUMMARY:Vegetarian Night - Saag Paneer
DESCRIPTION:Dive into the world of Indian cuisine in our hands-on cooking class featuring saag paneer and moong daal. Discover how to blend fresh spinach and creamy paneer for a delightful saag paneer\, while mastering the art of cooking perfectly spiced lentils in moong daal. Enjoy step-by-step guidance from our expert instructor\, and savor the delicious flavors you create.
URL:https://www.naveenscuisine.com/event/vegetarian-night-saag-paneer/
CATEGORIES:Cooking Class
END:VEVENT
BEGIN:VEVENT
DTSTART;TZID=America/Chicago:20241029T183000
DTEND;TZID=America/Chicago:20241029T213000
DTSTAMP:20260420T055530
CREATED:20241002T152725Z
LAST-MODIFIED:20241007T162234Z
UID:10000062-1730226600-1730237400@www.naveenscuisine.com
SUMMARY:Chicken Curry & Bhindi Masala
DESCRIPTION:Join our vibrant cooking class and unlock the secrets to creating a rich Indian chicken curry and flavorful bhindi masala. Learn traditional techniques and spices that bring these dishes to life\, from marinating the chicken to perfecting the tender okra. Enjoy a hands-on experience with expert guidance\, and savor the aromatic results of your culinary adventure. The menu for the evening is: \nTraditional Northern Indian chicken curry cooked with herbs and spices \nBhindi Masala – Fresh okra cooked with sliced onion and mild spices
URL:https://www.naveenscuisine.com/event/chicken-curry-bhindi-masala/
CATEGORIES:Cooking Class
END:VEVENT
BEGIN:VEVENT
DTSTART;TZID=America/Chicago:20241101T170000
DTEND;TZID=America/Chicago:20241101T213000
DTSTAMP:20260420T055530
CREATED:20241105T172534Z
LAST-MODIFIED:20241105T172534Z
UID:10000068-1730480400-1730496600@www.naveenscuisine.com
SUMMARY:SOLD OUT - Diwali Party Cooking Class
DESCRIPTION:We are booked for a private family get Diwali Party cooking class. Other dates are available to book a private event – please contact us for availability and details. Thanks for your interest.
URL:https://www.naveenscuisine.com/event/sold-out-diwali-party-cooking-class/
CATEGORIES:Private Event
END:VEVENT
END:VCALENDAR