BEGIN:VCALENDAR
VERSION:2.0
PRODID:-//Naveen&#039;s Cuisine - ECPv6.14.1//NONSGML v1.0//EN
CALSCALE:GREGORIAN
METHOD:PUBLISH
X-WR-CALNAME:Naveen&#039;s Cuisine
X-ORIGINAL-URL:https://www.naveenscuisine.com
X-WR-CALDESC:Events for Naveen&#039;s Cuisine
REFRESH-INTERVAL;VALUE=DURATION:PT1H
X-Robots-Tag:noindex
X-PUBLISHED-TTL:PT1H
BEGIN:VTIMEZONE
TZID:America/Chicago
BEGIN:DAYLIGHT
TZOFFSETFROM:-0600
TZOFFSETTO:-0500
TZNAME:CDT
DTSTART:20240310T080000
END:DAYLIGHT
BEGIN:STANDARD
TZOFFSETFROM:-0500
TZOFFSETTO:-0600
TZNAME:CST
DTSTART:20241103T070000
END:STANDARD
END:VTIMEZONE
BEGIN:VEVENT
DTSTART;TZID=America/Chicago:20241119T103000
DTEND;TZID=America/Chicago:20241119T133000
DTSTAMP:20260420T055319
CREATED:20241105T182012Z
LAST-MODIFIED:20241105T182012Z
UID:10000073-1732012200-1732023000@www.naveenscuisine.com
SUMMARY:Lunch SOLD OUT – Embarc Chicago High School Kids Cooking Class
DESCRIPTION:We are booked for a private high school kids field trip cooking class. Other dates are available to book a private event – please contact us for availability and details. Thanks for your interest.
URL:https://www.naveenscuisine.com/event/lunch-sold-out-embarc-chicago-high-school-kids-cooking-class-8/
CATEGORIES:Private Event
END:VEVENT
BEGIN:VEVENT
DTSTART;TZID=America/Chicago:20241119T173000
DTEND;TZID=America/Chicago:20241119T210000
DTSTAMP:20260420T055319
CREATED:20241117T200507Z
LAST-MODIFIED:20241117T200507Z
UID:10000086-1732037400-1732050000@www.naveenscuisine.com
SUMMARY:Dinner SOLD OUT - Captiv8 Team Outing Cooking Class
DESCRIPTION:We are booked for a private corporate team outing get together cooking class. Other dates are available to book a private event – please contact us for availability and details. Thanks for your interest.
URL:https://www.naveenscuisine.com/event/dinner-sold-out-captiv8-team-outing-cooking-class/
CATEGORIES:Private Event
END:VEVENT
BEGIN:VEVENT
DTSTART;TZID=America/Chicago:20241121T103000
DTEND;TZID=America/Chicago:20241121T133000
DTSTAMP:20260420T055319
CREATED:20241117T203048Z
LAST-MODIFIED:20241117T203048Z
UID:10000103-1732185000-1732195800@www.naveenscuisine.com
SUMMARY:Lunch SOLD OUT – Embarc Chicago High School Kids Cooking Class
DESCRIPTION:We are booked for a private high school kids field trip cooking class. Other dates are available to book a private event – please contact us for availability and details. Thanks for your interest.
URL:https://www.naveenscuisine.com/event/lunch-sold-out-embarc-chicago-high-school-kids-cooking-class-11/
CATEGORIES:Private Event
END:VEVENT
BEGIN:VEVENT
DTSTART;TZID=America/Chicago:20241121T170000
DTEND;TZID=America/Chicago:20241121T203000
DTSTAMP:20260420T055319
CREATED:20241105T182120Z
LAST-MODIFIED:20241105T182120Z
UID:10000074-1732208400-1732221000@www.naveenscuisine.com
SUMMARY:Front Kitchen Dinner SOLD OUT - Google Team Outing Cooking Class
DESCRIPTION:Front classroom is booked for a team outing cooking class and dinner. Back classroom is available to book for a private event – please contact us for details. Thanks for your interest.
URL:https://www.naveenscuisine.com/event/front-kitchen-dinner-sold-out-google-team-outing-cooking-class/
CATEGORIES:Private Event
END:VEVENT
BEGIN:VEVENT
DTSTART;TZID=America/Chicago:20241122T180000
DTEND;TZID=America/Chicago:20241122T203000
DTSTAMP:20260420T055319
CREATED:20241117T203207Z
LAST-MODIFIED:20241117T203207Z
UID:10000104-1732298400-1732307400@www.naveenscuisine.com
SUMMARY:Front Kitchen Dinner SOLD OUT - Private Birthday Party Cooking Class
DESCRIPTION:Front classroom is booked for a private birthday party cooking class and dinner. Back classroom is available to book for a private event – please contact us for details. Thanks for your interest.
URL:https://www.naveenscuisine.com/event/front-kitchen-dinner-sold-out-private-birthday-party-cooking-class/
CATEGORIES:Private Event
END:VEVENT
BEGIN:VEVENT
DTSTART;TZID=America/Chicago:20241123T180000
DTEND;TZID=America/Chicago:20241123T210000
DTSTAMP:20260420T055319
CREATED:20241105T183205Z
LAST-MODIFIED:20241105T183228Z
UID:10000080-1732384800-1732395600@www.naveenscuisine.com
SUMMARY:Chicken Curry & Bhindi Masala
DESCRIPTION:Join our vibrant cooking class and unlock the secrets to creating a rich Indian chicken curry and flavorful bhindi masala. Learn traditional techniques and spices that bring these dishes to life\, from marinating the chicken to perfecting the tender okra. Enjoy a hands-on experience with expert guidance\, and savor the aromatic results of your culinary adventure. The menu for the evening is: \nTraditional Northern Indian chicken curry cooked with herbs and spices \nBhindi Masala – Fresh okra cooked with sliced onion and mild spices
URL:https://www.naveenscuisine.com/event/chicken-curry-bhindi-masala-2/
CATEGORIES:Cooking Class
END:VEVENT
END:VCALENDAR