BEGIN:VCALENDAR
VERSION:2.0
PRODID:-//Naveen&#039;s Cuisine - ECPv6.14.1//NONSGML v1.0//EN
CALSCALE:GREGORIAN
METHOD:PUBLISH
X-ORIGINAL-URL:https://www.naveenscuisine.com
X-WR-CALDESC:Events for Naveen&#039;s Cuisine
REFRESH-INTERVAL;VALUE=DURATION:PT1H
X-Robots-Tag:noindex
X-PUBLISHED-TTL:PT1H
BEGIN:VTIMEZONE
TZID:America/Chicago
BEGIN:DAYLIGHT
TZOFFSETFROM:-0600
TZOFFSETTO:-0500
TZNAME:CDT
DTSTART:20250309T080000
END:DAYLIGHT
BEGIN:STANDARD
TZOFFSETFROM:-0500
TZOFFSETTO:-0600
TZNAME:CST
DTSTART:20251102T070000
END:STANDARD
END:VTIMEZONE
BEGIN:VEVENT
DTSTART;TZID=America/Chicago:20250211T173000
DTEND;TZID=America/Chicago:20250211T210000
DTSTAMP:20260423T032319
CREATED:20250112T155959Z
LAST-MODIFIED:20250112T155959Z
UID:10000140-1739295000-1739307600@www.naveenscuisine.com
SUMMARY:Dinner SOLD OUT - Arctic Wolf CDW Team Outing Cooking Class
DESCRIPTION:We are booked for a private corporate team outing get together cooking class. Other dates are available to book a private event – please contact us for availability and details. Thanks for your interest.
URL:https://www.naveenscuisine.com/event/dinner-sold-out-arctic-wolf-cdw-team-outing-cooking-class/
CATEGORIES:Private Event
END:VEVENT
BEGIN:VEVENT
DTSTART;TZID=America/Chicago:20250212T103000
DTEND;TZID=America/Chicago:20250212T133000
DTSTAMP:20260423T032319
CREATED:20250120T212734Z
LAST-MODIFIED:20250120T212734Z
UID:10000149-1739356200-1739367000@www.naveenscuisine.com
SUMMARY:Lunch SOLD OUT – Embarc Chicago High School Kids Cooking Class
DESCRIPTION:We are booked for a private high school kids field trip cooking class. Other dates are available to book a private event – please contact us for availability and details. Thanks for your interest.
URL:https://www.naveenscuisine.com/event/lunch-sold-out-embarc-chicago-high-school-kids-cooking-class-15/
CATEGORIES:Private Event
END:VEVENT
BEGIN:VEVENT
DTSTART;TZID=America/Chicago:20250213T103000
DTEND;TZID=America/Chicago:20250213T133000
DTSTAMP:20260423T032319
CREATED:20250120T212816Z
LAST-MODIFIED:20250120T212816Z
UID:10000150-1739442600-1739453400@www.naveenscuisine.com
SUMMARY:Lunch SOLD OUT – Embarc Chicago High School Kids Cooking Class
DESCRIPTION:We are booked for a private high school kids field trip cooking class. Other dates are available to book a private event – please contact us for availability and details. Thanks for your interest.
URL:https://www.naveenscuisine.com/event/lunch-sold-out-embarc-chicago-high-school-kids-cooking-class-16/
CATEGORIES:Private Event
END:VEVENT
BEGIN:VEVENT
DTSTART;TZID=America/Chicago:20250214T183000
DTEND;TZID=America/Chicago:20250214T210000
DTSTAMP:20260423T032319
CREATED:20250114T051542Z
LAST-MODIFIED:20250114T051542Z
UID:10000146-1739557800-1739566800@www.naveenscuisine.com
SUMMARY:Valentine's Day - Lets make Maki's
DESCRIPTION:Celebrate Valentine’s Day with a fun and interactive sushi-making class! Learn how to craft beautiful\, bite-sized maki rolls filled with fresh ingredients and your favorite flavors. Whether you’re a sushi newbie or a seasoned pro\, this hands-on experience will have you rolling like a true sushi chef. Perfect for couples or friends—bring your love for food to the table!
URL:https://www.naveenscuisine.com/event/valentines-day-lets-make-makis/
CATEGORIES:Cooking Class
END:VEVENT
BEGIN:VEVENT
DTSTART;TZID=America/Chicago:20250215T180000
DTEND;TZID=America/Chicago:20250215T210000
DTSTAMP:20260423T032319
CREATED:20250210T211418Z
LAST-MODIFIED:20250210T211418Z
UID:10000153-1739642400-1739653200@www.naveenscuisine.com
SUMMARY:Dinner SOLD OUT - Private Birthday Party Cooking Class
DESCRIPTION:We are booked for a private birthday party  cooking class. Other dates are available to book a private event – please contact us for availability and details. Thanks for your interest.
URL:https://www.naveenscuisine.com/event/dinner-sold-out-private-birthday-party-cooking-class-6/
CATEGORIES:Private Event
END:VEVENT
END:VCALENDAR