BEGIN:VCALENDAR
VERSION:2.0
PRODID:-//Naveen&#039;s Cuisine - ECPv6.14.1//NONSGML v1.0//EN
CALSCALE:GREGORIAN
METHOD:PUBLISH
X-WR-CALNAME:Naveen&#039;s Cuisine
X-ORIGINAL-URL:https://www.naveenscuisine.com
X-WR-CALDESC:Events for Naveen&#039;s Cuisine
REFRESH-INTERVAL;VALUE=DURATION:PT1H
X-Robots-Tag:noindex
X-PUBLISHED-TTL:PT1H
BEGIN:VTIMEZONE
TZID:America/Chicago
BEGIN:DAYLIGHT
TZOFFSETFROM:-0600
TZOFFSETTO:-0500
TZNAME:CDT
DTSTART:20250309T080000
END:DAYLIGHT
BEGIN:STANDARD
TZOFFSETFROM:-0500
TZOFFSETTO:-0600
TZNAME:CST
DTSTART:20251102T070000
END:STANDARD
END:VTIMEZONE
BEGIN:VEVENT
DTSTART;TZID=America/Chicago:20250623T183000
DTEND;TZID=America/Chicago:20250623T213000
DTSTAMP:20260420T075333
CREATED:20250608T160810Z
LAST-MODIFIED:20250608T160810Z
UID:10000218-1750703400-1750714200@www.naveenscuisine.com
SUMMARY:Vegetarian Night Cooking Class
DESCRIPTION:Join our vibrant vegetarian cooking class where you’ll learn to prepare two classic Indian dishes: Aloo Gobi\, a flavorful spiced potato and cauliflower curry\, and Matar Paneer\, a rich dish with peas and paneer. Perfect for beginners and seasoned cooks alike\, this hands-on session will teach you authentic techniques and tips for creating delicious\, wholesome meals. Discover the magic of Indian spices and create a memorable meal with ease!
URL:https://www.naveenscuisine.com/event/vegetarian-night-cooking-class-2/
CATEGORIES:Cooking Class
END:VEVENT
BEGIN:VEVENT
DTSTART;TZID=America/Chicago:20250626T173000
DTEND;TZID=America/Chicago:20250626T210000
DTSTAMP:20260420T075333
CREATED:20250608T143606Z
LAST-MODIFIED:20250608T143606Z
UID:10000214-1750959000-1750971600@www.naveenscuisine.com
SUMMARY:Dinner SOLD OUT - Arnold Porter Team Outing Cooking Class
DESCRIPTION:We are booked for a private corporate team outing get together cooking class. Other dates are available to book a private event – please contact us for availability and details. Thanks for your interest.
URL:https://www.naveenscuisine.com/event/dinner-sold-out-arnold-porter-team-outing-cooking-class/
CATEGORIES:Private Event
END:VEVENT
BEGIN:VEVENT
DTSTART;TZID=America/Chicago:20250627T180000
DTEND;TZID=America/Chicago:20250627T210000
DTSTAMP:20260420T075333
CREATED:20250608T161917Z
LAST-MODIFIED:20250625T145416Z
UID:10000221-1751047200-1751058000@www.naveenscuisine.com
SUMMARY:Keema Matar & Moong Daal
DESCRIPTION:Discover the flavors of home-style Indian cooking in this hands-on class!Learn to prepare Keema Matar—a savory minced meat and green pea curry\, rich with aromatic spices.Master the art of cooking Moong Daal\, a light yet comforting lentil dish tempered with cumin\, garlic\, and ghee.
URL:https://www.naveenscuisine.com/event/keema-matar-moong-daal/
CATEGORIES:Cooking Class
END:VEVENT
BEGIN:VEVENT
DTSTART;TZID=America/Chicago:20250628T180000
DTEND;TZID=America/Chicago:20250628T210000
DTSTAMP:20260420T075333
CREATED:20250608T143734Z
LAST-MODIFIED:20250608T143734Z
UID:10000215-1751133600-1751144400@www.naveenscuisine.com
SUMMARY:Dinner SOLD OUT - Renal Physicians Association Team Outing Cooking Class
DESCRIPTION:We are booked for a private team outing get together cooking class. Other dates are available to book a private event – please contact us for availability and details. Thanks for your interest.
URL:https://www.naveenscuisine.com/event/dinner-sold-out-renal-physicians-association-team-outing-cooking-class/
CATEGORIES:Private Event
END:VEVENT
END:VCALENDAR